BEGIN:VCALENDAR
VERSION:2.0
PRODID:-//Richmond Hill Lifestyle - ECPv6.15.14//NONSGML v1.0//EN
CALSCALE:GREGORIAN
METHOD:PUBLISH
X-WR-CALNAME:Richmond Hill Lifestyle
X-ORIGINAL-URL:https://livingrichmondhillga.com
X-WR-CALDESC:Events for Richmond Hill Lifestyle
REFRESH-INTERVAL;VALUE=DURATION:PT1H
X-Robots-Tag:noindex
X-PUBLISHED-TTL:PT1H
BEGIN:VTIMEZONE
TZID:America/New_York
BEGIN:DAYLIGHT
TZOFFSETFROM:-0500
TZOFFSETTO:-0400
TZNAME:EDT
DTSTART:20180311T070000
END:DAYLIGHT
BEGIN:STANDARD
TZOFFSETFROM:-0400
TZOFFSETTO:-0500
TZNAME:EST
DTSTART:20181104T060000
END:STANDARD
BEGIN:DAYLIGHT
TZOFFSETFROM:-0500
TZOFFSETTO:-0400
TZNAME:EDT
DTSTART:20190310T070000
END:DAYLIGHT
BEGIN:STANDARD
TZOFFSETFROM:-0400
TZOFFSETTO:-0500
TZNAME:EST
DTSTART:20191103T060000
END:STANDARD
BEGIN:DAYLIGHT
TZOFFSETFROM:-0500
TZOFFSETTO:-0400
TZNAME:EDT
DTSTART:20200308T070000
END:DAYLIGHT
BEGIN:STANDARD
TZOFFSETFROM:-0400
TZOFFSETTO:-0500
TZNAME:EST
DTSTART:20201101T060000
END:STANDARD
END:VTIMEZONE
BEGIN:VEVENT
DTSTART;TZID=America/New_York:20190704T150000
DTEND;TZID=America/New_York:20190704T230000
DTSTAMP:20260423T052710
CREATED:20190611T182953Z
LAST-MODIFIED:20190611T182953Z
UID:10001684-1562252400-1562281200@livingrichmondhillga.com
SUMMARY:Marne Independence Day
DESCRIPTION:Mark your calendars for a concert by 7-time Grammy Award winner ‘Lady Antebellum‘ with special guest ‘Caroline Jones‘ as they pay tribute to the troops live at Donovan Field July 4th on Fort Stewart. \nThis concert is FREE & open to the public and will close with a booming fireworks show brought to you by Fort Stewart. \n 
URL:https://livingrichmondhillga.com/event/marne-independence-day/
LOCATION:Donovan Field\, Fort Stewart\, GA\, United States
GEO:31.8690667;-81.6089873
END:VEVENT
END:VCALENDAR