BEGIN:VCALENDAR
VERSION:2.0
PRODID:-//Richmond Hill Lifestyle - ECPv6.15.14//NONSGML v1.0//EN
CALSCALE:GREGORIAN
METHOD:PUBLISH
X-ORIGINAL-URL:https://livingrichmondhillga.com
X-WR-CALDESC:Events for Richmond Hill Lifestyle
REFRESH-INTERVAL;VALUE=DURATION:PT1H
X-Robots-Tag:noindex
X-PUBLISHED-TTL:PT1H
BEGIN:VTIMEZONE
TZID:America/New_York
BEGIN:DAYLIGHT
TZOFFSETFROM:-0500
TZOFFSETTO:-0400
TZNAME:EDT
DTSTART:20180311T070000
END:DAYLIGHT
BEGIN:STANDARD
TZOFFSETFROM:-0400
TZOFFSETTO:-0500
TZNAME:EST
DTSTART:20181104T060000
END:STANDARD
BEGIN:DAYLIGHT
TZOFFSETFROM:-0500
TZOFFSETTO:-0400
TZNAME:EDT
DTSTART:20190310T070000
END:DAYLIGHT
BEGIN:STANDARD
TZOFFSETFROM:-0400
TZOFFSETTO:-0500
TZNAME:EST
DTSTART:20191103T060000
END:STANDARD
BEGIN:DAYLIGHT
TZOFFSETFROM:-0500
TZOFFSETTO:-0400
TZNAME:EDT
DTSTART:20200308T070000
END:DAYLIGHT
BEGIN:STANDARD
TZOFFSETFROM:-0400
TZOFFSETTO:-0500
TZNAME:EST
DTSTART:20201101T060000
END:STANDARD
END:VTIMEZONE
BEGIN:VEVENT
DTSTART;TZID=America/New_York:20190606T093000
DTEND;TZID=America/New_York:20190606T170000
DTSTAMP:20260419T084016
CREATED:20190528T143205Z
LAST-MODIFIED:20190528T143205Z
UID:10001672-1559813400-1559840400@livingrichmondhillga.com
SUMMARY:75th Anniversary of D-Day Commemoration
DESCRIPTION:The National Museum of the Mighty Eighth Air Force will be commemorating the 75th Anniversary of D-Day on Thursday\, June 6 with programs throughout the day. Admission for all visitors will be $8 all day\, however WWII Veterans and children under 6 are always free. \n9:30 AM – D-Day Remembrance Service\, Chapel of the Fallen Eagles: Start the day by hearing General Eisenhower’s D-Day “Order of the Day” message to the Allied Forces and President Roosevelt’s D-Day radio address. \n10:00 AM – Good Morning from the City of Savannah\, Combat Gallery: D-Day messages will be broadcast throughout the day from the radio of the Museum’s B-17\, City of Savannah. \n11:00 AM – Prelude to D-Day\, Art Gallery: Join Brig. Gen. Charles Cabell Jr. USAF\, Ret. as he shares his father’s (General Charles Cabell) involvement as Chief of Plans for the United States Strategic Air Forces in 1944 in D-Day decisions. \n1:00-3:00 PM – Conversations with the Greatest Generation: Interact with WWII veterans as they recount their service and sacrifice to our country.
URL:https://livingrichmondhillga.com/event/75th-anniversary-of-d-day-commemoration/
LOCATION:National Museum of the Mighty Eighth Air Force\, 175 Bourne Avenue\, Pooler\, GA\, 31322\, United States
GEO:32.1155907;-81.2365401
X-APPLE-STRUCTURED-LOCATION;VALUE=URI;X-ADDRESS=National Museum of the Mighty Eighth Air Force 175 Bourne Avenue Pooler GA 31322 United States;X-APPLE-RADIUS=500;X-TITLE=175 Bourne Avenue:geo:-81.2365401,32.1155907
END:VEVENT
END:VCALENDAR